Workbook

Sheet Mapa de férias 2026
A1: MAPA DE FÉRIAS 2026
A2: Empresa: | G2: NIF:
A3: Estabelecimento: | G3: Data de elaboração:
A5: N.º | B5: Trabalhador | C5: Categoria | D5: Dias de direito | E5: 1.º período: início | F5: 1.º período: fim | G5: 2.º período: início | H5: 2.º período: fim | I5: 3.º período: início | J5: 3.º período: fim | K5: Dias úteis marcados | L5: Observações
A6: 1 | D6: 22 | K6: =IF(E6="","",NETWORKDAYS(E6,F6,Feriados!$A$2:$A$20))+IF(G6="",0,NETWORKDAYS(G6,H6,Feriados!$A$2:$A$20))+IF(I6="",0,NETWORKDAYS(I6,J6,Feriados!$A$2:$A$20))
A7: 2 | D7: 22 | K7: =IF(E7="","",NETWORKDAYS(E7,F7,Feriados!$A$2:$A$20))+IF(G7="",0,NETWORKDAYS(G7,H7,Feriados!$A$2:$A$20))+IF(I7="",0,NETWORKDAYS(I7,J7,Feriados!$A$2:$A$20))
A8: 3 | D8: 22 | K8: =IF(E8="","",NETWORKDAYS(E8,F8,Feriados!$A$2:$A$20))+IF(G8="",0,NETWORKDAYS(G8,H8,Feriados!$A$2:$A$20))+IF(I8="",0,NETWORKDAYS(I8,J8,Feriados!$A$2:$A$20))
A9: 4 | D9: 22 | K9: =IF(E9="","",NETWORKDAYS(E9,F9,Feriados!$A$2:$A$20))+IF(G9="",0,NETWORKDAYS(G9,H9,Feriados!$A$2:$A$20))+IF(I9="",0,NETWORKDAYS(I9,J9,Feriados!$A$2:$A$20))
A10: 5 | D10: 22 | K10: =IF(E10="","",NETWORKDAYS(E10,F10,Feriados!$A$2:$A$20))+IF(G10="",0,NETWORKDAYS(G10,H10,Feriados!$A$2:$A$20))+IF(I10="",0,NETWORKDAYS(I10,J10,Feriados!$A$2:$A$20))
A11: 6 | D11: 22 | K11: =IF(E11="","",NETWORKDAYS(E11,F11,Feriados!$A$2:$A$20))+IF(G11="",0,NETWORKDAYS(G11,H11,Feriados!$A$2:$A$20))+IF(I11="",0,NETWORKDAYS(I11,J11,Feriados!$A$2:$A$20))
A12: 7 | D12: 22 | K12: =IF(E12="","",NETWORKDAYS(E12,F12,Feriados!$A$2:$A$20))+IF(G12="",0,NETWORKDAYS(G12,H12,Feriados!$A$2:$A$20))+IF(I12="",0,NETWORKDAYS(I12,J12,Feriados!$A$2:$A$20))
A13: 8 | D13: 22 | K13: =IF(E13="","",NETWORKDAYS(E13,F13,Feriados!$A$2:$A$20))+IF(G13="",0,NETWORKDAYS(G13,H13,Feriados!$A$2:$A$20))+IF(I13="",0,NETWORKDAYS(I13,J13,Feriados!$A$2:$A$20))
A14: 9 | D14: 22 | K14: =IF(E14="","",NETWORKDAYS(E14,F14,Feriados!$A$2:$A$20))+IF(G14="",0,NETWORKDAYS(G14,H14,Feriados!$A$2:$A$20))+IF(I14="",0,NETWORKDAYS(I14,J14,Feriados!$A$2:$A$20))
A15: 10 | D15: 22 | K15: =IF(E15="","",NETWORKDAYS(E15,F15,Feriados!$A$2:$A$20))+IF(G15="",0,NETWORKDAYS(G15,H15,Feriados!$A$2:$A$20))+IF(I15="",0,NETWORKDAYS(I15,J15,Feriados!$A$2:$A$20))
A16: 11 | D16: 22 | K16: =IF(E16="","",NETWORKDAYS(E16,F16,Feriados!$A$2:$A$20))+IF(G16="",0,NETWORKDAYS(G16,H16,Feriados!$A$2:$A$20))+IF(I16="",0,NETWORKDAYS(I16,J16,Feriados!$A$2:$A$20))
A17: 12 | D17: 22 | K17: =IF(E17="","",NETWORKDAYS(E17,F17,Feriados!$A$2:$A$20))+IF(G17="",0,NETWORKDAYS(G17,H17,Feriados!$A$2:$A$20))+IF(I17="",0,NETWORKDAYS(I17,J17,Feriados!$A$2:$A$20))
... A45: 40 | D45: 22 | K45: =IF(E45="","",NETWORKDAYS(E45,F45,Feriados!$A$2:$A$20))+IF(G45="",0,NETWORKDAYS(G45,H45,Feriados!$A$2:$A$20))+IF(I45="",0,NETWORKDAYS(I45,J45,Feriados!$A$2:$A$20))
A47: Elaborado até 15 de abril de 2026 e afixado nos locais de trabalho entre essa data e 31 de outubro (art. 241.º, n.º 9, do Código do Trabalho). Dias úteis: segunda a sexta-feira, exceto feriados (art. 238.º, n.º 2). Mínimo de 10 dias úteis consecutivos em caso de gozo interpolado (art. 241.º, n.º 8).
A48: Os feriados nacionais estão na folha "Feriados". Acrescente lá o feriado municipal e o Carnaval, se a empresa os observar, para a contagem os descontar.
A49: Modelo gratuito do Zavo (zavo.pt). No Zavo, o mapa de férias é gerado a partir dos pedidos aprovados: https://zavo.pt/funcionalidades/mapa-de-ferias

Sheet Feriados
A1: Data | B1: Feriado
A2: 46023 | B2: Ano Novo
A3: 46115 | B3: Sexta-Feira Santa
A4: 46117 | B4: Domingo de Páscoa
A5: 46137 | B5: Dia da Liberdade
A6: 46143 | B6: Dia do Trabalhador
A7: 46177 | B7: Corpo de Deus
A8: 46183 | B8: Dia de Portugal
A9: 46249 | B9: Assunção de Nossa Senhora
A10: 46300 | B10: Implantação da República
A11: 46327 | B11: Todos-os-Santos
A12: 46357 | B12: Restauração da Independência
A13: 46364 | B13: Imaculada Conceição
A14: 46381 | B14: Natal
B15: (feriado municipal, se aplicável)
B16: (Carnaval, se aplicável)

Sheet Calendário 2026
A1: Mês | B1: 1 | C1: 2 | D1: 3 | E1: 4 | F1: 5 | G1: 6 | H1: 7 | I1: 8 | J1: 9 | K1: 10 | L1: 11 | M1: 12 | N1: 13 | O1: 14 | P1: 15 | Q1: 16 | R1: 17 | S1: 18 | T1: 19 | U1: 20 | V1: 21 | W1: 22 | X1: 23 | Y1: 24 | Z1: 25 | AA1: 26 | AB1: 27 | AC1: 28 | AD1: 29 | AE1: 30 | AF1: 31
A2: Janeiro | B2: Q | C2: S | D2: S | E2: D | F2: S | G2: T | H2: Q | I2: Q | J2: S | K2: S | L2: D | M2: S | N2: T | O2: Q | P2: Q | Q2: S | R2: S | S2: D | T2: S | U2: T | V2: Q | W2: Q | X2: S | Y2: S | Z2: D | AA2: S | AB2: T | AC2: Q | AD2: Q | AE2: S | AF2: S
A3: Fevereiro | B3: D | C3: S | D3: T | E3: Q | F3: Q | G3: S | H3: S | I3: D | J3: S | K3: T | L3: Q | M3: Q | N3: S | O3: S | P3: D | Q3: S | R3: T | S3: Q | T3: Q | U3: S | V3: S | W3: D | X3: S | Y3: T | Z3: Q | AA3: Q | AB3: S | AC3: S
A4: Março | B4: D | C4: S | D4: T | E4: Q | F4: Q | G4: S | H4: S | I4: D | J4: S | K4: T | L4: Q | M4: Q | N4: S | O4: S | P4: D | Q4: S | R4: T | S4: Q | T4: Q | U4: S | V4: S | W4: D | X4: S | Y4: T | Z4: Q | AA4: Q | AB4: S | AC4: S | AD4: D | AE4: S | AF4: T
A5: Abril | B5: Q | C5: Q | D5: S | E5: S | F5: D | G5: S | H5: T | I5: Q | J5: Q | K5: S | L5: S | M5: D | N5: S | O5: T | P5: Q | Q5: Q | R5: S | S5: S | T5: D | U5: S | V5: T | W5: Q | X5: Q | Y5: S | Z5: S | AA5: D | AB5: S | AC5: T | AD5: Q | AE5: Q
A6: Maio | B6: S | C6: S | D6: D | E6: S | F6: T | G6: Q | H6: Q | I6: S | J6: S | K6: D | L6: S | M6: T | N6: Q | O6: Q | P6: S | Q6: S | R6: D | S6: S | T6: T | U6: Q | V6: Q | W6: S | X6: S | Y6: D | Z6: S | AA6: T | AB6: Q | AC6: Q | AD6: S | AE6: S | AF6: D
A7: Junho | B7: S | C7: T | D7: Q | E7: Q | F7: S | G7: S | H7: D | I7: S | J7: T | K7: Q | L7: Q | M7: S | N7: S | O7: D | P7: S | Q7: T | R7: Q | S7: Q | T7: S | U7: S | V7: D | W7: S | X7: T | Y7: Q | Z7: Q | AA7: S | AB7: S | AC7: D | AD7: S | AE7: T
A8: Julho | B8: Q | C8: Q | D8: S | E8: S | F8: D | G8: S | H8: T | I8: Q | J8: Q | K8: S | L8: S | M8: D | N8: S | O8: T | P8: Q | Q8: Q | R8: S | S8: S | T8: D | U8: S | V8: T | W8: Q | X8: Q | Y8: S | Z8: S | AA8: D | AB8: S | AC8: T | AD8: Q | AE8: Q | AF8: S
A9: Agosto | B9: S | C9: D | D9: S | E9: T | F9: Q | G9: Q | H9: S | I9: S | J9: D | K9: S | L9: T | M9: Q | N9: Q | O9: S | P9: S | Q9: D | R9: S | S9: T | T9: Q | U9: Q | V9: S | W9: S | X9: D | Y9: S | Z9: T | AA9: Q | AB9: Q | AC9: S | AD9: S | AE9: D | AF9: S
A10: Setembro | B10: T | C10: Q | D10: Q | E10: S | F10: S | G10: D | H10: S | I10: T | J10: Q | K10: Q | L10: S | M10: S | N10: D | O10: S | P10: T | Q10: Q | R10: Q | S10: S | T10: S | U10: D | V10: S | W10: T | X10: Q | Y10: Q | Z10: S | AA10: S | AB10: D | AC10: S | AD10: T | AE10: Q
A11: Outubro | B11: Q | C11: S | D11: S | E11: D | F11: S | G11: T | H11: Q | I11: Q | J11: S | K11: S | L11: D | M11: S | N11: T | O11: Q | P11: Q | Q11: S | R11: S | S11: D | T11: S | U11: T | V11: Q | W11: Q | X11: S | Y11: S | Z11: D | AA11: S | AB11: T | AC11: Q | AD11: Q | AE11: S | AF11: S
A12: Novembro | B12: D | C12: S | D12: T | E12: Q | F12: Q | G12: S | H12: S | I12: D | J12: S | K12: T | L12: Q | M12: Q | N12: S | O12: S | P12: D | Q12: S | R12: T | S12: Q | T12: Q | U12: S | V12: S | W12: D | X12: S | Y12: T | Z12: Q | AA12: Q | AB12: S | AC12: S | AD12: D | AE12: S
A13: Dezembro | B13: T | C13: Q | D13: Q | E13: S | F13: S | G13: D | H13: S | I13: T | J13: Q | K13: Q | L13: S | M13: S | N13: D | O13: S | P13: T | Q13: Q | R13: Q | S13: S | T13: S | U13: D | V13: S | W13: T | X13: Q | Y13: Q | Z13: S | AA13: S | AB13: D | AC13: S | AD13: T | AE13: Q | AF13: Q
A15: Vermelho: feriado nacional obrigatório. Cinzento: fim de semana. Letras: dia da semana (S=segunda, T=terça, Q=quarta/quinta, S=sexta/sábado, D=domingo).
